BEGIN:VCALENDAR
VERSION:2.0
PRODID:-//EUVA Verkehrsakademie - ECPv6.15.12.2//NONSGML v1.0//EN
CALSCALE:GREGORIAN
METHOD:PUBLISH
X-ORIGINAL-URL:https://www.euva.de
X-WR-CALDESC:Veranstaltungen für EUVA Verkehrsakademie
REFRESH-INTERVAL;VALUE=DURATION:PT1H
X-Robots-Tag:noindex
X-PUBLISHED-TTL:PT1H
BEGIN:VTIMEZONE
TZID:Europe/Berlin
BEGIN:DAYLIGHT
TZOFFSETFROM:+0100
TZOFFSETTO:+0200
TZNAME:CEST
DTSTART:20250330T010000
END:DAYLIGHT
BEGIN:STANDARD
TZOFFSETFROM:+0200
TZOFFSETTO:+0100
TZNAME:CET
DTSTART:20251026T010000
END:STANDARD
BEGIN:DAYLIGHT
TZOFFSETFROM:+0100
TZOFFSETTO:+0200
TZNAME:CEST
DTSTART:20260329T010000
END:DAYLIGHT
BEGIN:STANDARD
TZOFFSETFROM:+0200
TZOFFSETTO:+0100
TZNAME:CET
DTSTART:20261025T010000
END:STANDARD
BEGIN:DAYLIGHT
TZOFFSETFROM:+0100
TZOFFSETTO:+0200
TZNAME:CEST
DTSTART:20270328T010000
END:DAYLIGHT
BEGIN:STANDARD
TZOFFSETFROM:+0200
TZOFFSETTO:+0100
TZNAME:CET
DTSTART:20271031T010000
END:STANDARD
END:VTIMEZONE
BEGIN:VEVENT
DTSTART;TZID=Europe/Berlin:20260705T140000
DTEND;TZID=Europe/Berlin:20260705T150000
DTSTAMP:20260423T201253
CREATED:20260414T075122Z
LAST-MODIFIED:20260423T175100Z
UID:33180-1783260000-1783263600@www.euva.de
SUMMARY:Fahren ohne Führerschein
DESCRIPTION:Kein Versicherungsschutz verfügbar.
URL:https://www.euva.de/event/fahren-ohne-fuehrerschein-791/
END:VEVENT
BEGIN:VEVENT
DTSTART;TZID=Europe/Berlin:20260719T100000
DTEND;TZID=Europe/Berlin:20260719T110000
DTSTAMP:20260423T201253
CREATED:20260414T075123Z
LAST-MODIFIED:20260423T175100Z
UID:33181-1784455200-1784458800@www.euva.de
SUMMARY:Fahren ohne Führerschein
DESCRIPTION:Kein Versicherungsschutz verfügbar.
URL:https://www.euva.de/event/fahren-ohne-fuehrerschein-792/
END:VEVENT
BEGIN:VEVENT
DTSTART;TZID=Europe/Berlin:20260719T110000
DTEND;TZID=Europe/Berlin:20260719T120000
DTSTAMP:20260423T201253
CREATED:20260414T075123Z
LAST-MODIFIED:20260423T175100Z
UID:33182-1784458800-1784462400@www.euva.de
SUMMARY:Fahren ohne Führerschein
DESCRIPTION:Kein Versicherungsschutz verfügbar.
URL:https://www.euva.de/event/fahren-ohne-fuehrerschein-793/
END:VEVENT
BEGIN:VEVENT
DTSTART;TZID=Europe/Berlin:20260719T120000
DTEND;TZID=Europe/Berlin:20260719T130000
DTSTAMP:20260423T201253
CREATED:20260414T075123Z
LAST-MODIFIED:20260423T175100Z
UID:33183-1784462400-1784466000@www.euva.de
SUMMARY:Fahren ohne Führerschein
DESCRIPTION:Kein Versicherungsschutz verfügbar.
URL:https://www.euva.de/event/fahren-ohne-fuehrerschein-794/
END:VEVENT
BEGIN:VEVENT
DTSTART;TZID=Europe/Berlin:20260719T130000
DTEND;TZID=Europe/Berlin:20260719T140000
DTSTAMP:20260423T201253
CREATED:20260414T075123Z
LAST-MODIFIED:20260423T175100Z
UID:33184-1784466000-1784469600@www.euva.de
SUMMARY:Fahren ohne Führerschein
DESCRIPTION:Kein Versicherungsschutz verfügbar.
URL:https://www.euva.de/event/fahren-ohne-fuehrerschein-795/
END:VEVENT
BEGIN:VEVENT
DTSTART;TZID=Europe/Berlin:20260719T140000
DTEND;TZID=Europe/Berlin:20260719T150000
DTSTAMP:20260423T201253
CREATED:20260414T075123Z
LAST-MODIFIED:20260423T175100Z
UID:33185-1784469600-1784473200@www.euva.de
SUMMARY:Fahren ohne Führerschein
DESCRIPTION:Kein Versicherungsschutz verfügbar.
URL:https://www.euva.de/event/fahren-ohne-fuehrerschein-796/
END:VEVENT
BEGIN:VEVENT
DTSTART;TZID=Europe/Berlin:20260726T090000
DTEND;TZID=Europe/Berlin:20260726T170000
DTSTAMP:20260423T201253
CREATED:20251107T220939Z
LAST-MODIFIED:20260423T175100Z
UID:32011-1785056400-1785085200@www.euva.de
SUMMARY:Pkw Basistraining | DVR
DESCRIPTION:Versicherungsschutz inklusive.
URL:https://www.euva.de/event/pkw-basistraining-dvr-31/
END:VEVENT
BEGIN:VEVENT
DTSTART;TZID=Europe/Berlin:20260809T090000
DTEND;TZID=Europe/Berlin:20260809T170000
DTSTAMP:20260423T201253
CREATED:20251020T162909Z
LAST-MODIFIED:20260423T175100Z
UID:31961-1786266000-1786294800@www.euva.de
SUMMARY:Motorrad Aufbautraining
DESCRIPTION:Versicherungsschutz inklusive.
URL:https://www.euva.de/event/motorrad-aufbautraining/
END:VEVENT
BEGIN:VEVENT
DTSTART;TZID=Europe/Berlin:20260815T090000
DTEND;TZID=Europe/Berlin:20260815T163000
DTSTAMP:20260423T201253
CREATED:20251107T220939Z
LAST-MODIFIED:20260423T175100Z
UID:32012-1786784400-1786811400@www.euva.de
SUMMARY:Berufskraftfahrer-Weiterbildung (BKrFQG)
DESCRIPTION:Kein Versicherungsschutz verfügbar.
URL:https://www.euva.de/event/berufskraftfahrer-weiterbildung-bkrfqg-7/
END:VEVENT
BEGIN:VEVENT
DTSTART;TZID=Europe/Berlin:20260830T090000
DTEND;TZID=Europe/Berlin:20260830T170000
DTSTAMP:20260423T201253
CREATED:20251107T220939Z
LAST-MODIFIED:20260423T175100Z
UID:32013-1788080400-1788109200@www.euva.de
SUMMARY:Pkw Basistraining | DVR
DESCRIPTION:Versicherungsschutz inklusive.
URL:https://www.euva.de/event/pkw-basistraining-dvr-32/
END:VEVENT
BEGIN:VEVENT
DTSTART;TZID=Europe/Berlin:20260906T090000
DTEND;TZID=Europe/Berlin:20260906T170000
DTSTAMP:20260423T201253
CREATED:20251020T162909Z
LAST-MODIFIED:20260423T175100Z
UID:31962-1788685200-1788714000@www.euva.de
SUMMARY:Motorrad Aufbautraining
DESCRIPTION:Versicherungsschutz inklusive.
URL:https://www.euva.de/event/motorrad-aufbautraining-2/
END:VEVENT
BEGIN:VEVENT
DTSTART;TZID=Europe/Berlin:20260916T090000
DTEND;TZID=Europe/Berlin:20260916T170000
DTSTAMP:20260423T201253
CREATED:20260324T115100Z
LAST-MODIFIED:20260423T175100Z
UID:32994-1789549200-1789578000@www.euva.de
SUMMARY:Pkw Basistraining | DVR
DESCRIPTION:Versicherungsschutz inklusive.
URL:https://www.euva.de/event/pkw-basistraining-dvr-75/
END:VEVENT
BEGIN:VEVENT
DTSTART;TZID=Europe/Berlin:20260919T090000
DTEND;TZID=Europe/Berlin:20260919T163000
DTSTAMP:20260423T201253
CREATED:20251107T220939Z
LAST-MODIFIED:20260423T175100Z
UID:32014-1789808400-1789835400@www.euva.de
SUMMARY:Berufskraftfahrer-Weiterbildung (BKrFQG)
DESCRIPTION:Kein Versicherungsschutz verfügbar.
URL:https://www.euva.de/event/berufskraftfahrer-weiterbildung-bkrfqg-8/
END:VEVENT
BEGIN:VEVENT
DTSTART;TZID=Europe/Berlin:20260927T090000
DTEND;TZID=Europe/Berlin:20260927T170000
DTSTAMP:20260423T201253
CREATED:20260204T135101Z
LAST-MODIFIED:20260423T175100Z
UID:32584-1790499600-1790528400@www.euva.de
SUMMARY:Pkw Basistraining | DVR
DESCRIPTION:Versicherungsschutz inklusive.
URL:https://www.euva.de/event/pkw-basistraining-dvr-56/
END:VEVENT
BEGIN:VEVENT
DTSTART;TZID=Europe/Berlin:20261025T090000
DTEND;TZID=Europe/Berlin:20261025T170000
DTSTAMP:20260423T201253
CREATED:20260204T155101Z
LAST-MODIFIED:20260423T175100Z
UID:32586-1792918800-1792947600@www.euva.de
SUMMARY:Pkw Basistraining | DVR
DESCRIPTION:Versicherungsschutz inklusive.
URL:https://www.euva.de/event/pkw-basistraining-dvr-57/
END:VEVENT
BEGIN:VEVENT
DTSTART;TZID=Europe/Berlin:20261129T090000
DTEND;TZID=Europe/Berlin:20261129T170000
DTSTAMP:20260423T201253
CREATED:20260204T155102Z
LAST-MODIFIED:20260423T175100Z
UID:32587-1795942800-1795971600@www.euva.de
SUMMARY:Pkw Basistraining | DVR
DESCRIPTION:Versicherungsschutz inklusive.
URL:https://www.euva.de/event/pkw-basistraining-dvr-58/
END:VEVENT
END:VCALENDAR