BEGIN:VCALENDAR
VERSION:2.0
PRODID:-//EUVA Verkehrsakademie - ECPv6.15.12.2//NONSGML v1.0//EN
CALSCALE:GREGORIAN
METHOD:PUBLISH
X-WR-CALNAME:EUVA Verkehrsakademie
X-ORIGINAL-URL:https://www.euva.de
X-WR-CALDESC:Veranstaltungen für EUVA Verkehrsakademie
REFRESH-INTERVAL;VALUE=DURATION:PT1H
X-Robots-Tag:noindex
X-PUBLISHED-TTL:PT1H
BEGIN:VTIMEZONE
TZID:Europe/Berlin
BEGIN:DAYLIGHT
TZOFFSETFROM:+0100
TZOFFSETTO:+0200
TZNAME:CEST
DTSTART:20250330T010000
END:DAYLIGHT
BEGIN:STANDARD
TZOFFSETFROM:+0200
TZOFFSETTO:+0100
TZNAME:CET
DTSTART:20251026T010000
END:STANDARD
BEGIN:DAYLIGHT
TZOFFSETFROM:+0100
TZOFFSETTO:+0200
TZNAME:CEST
DTSTART:20260329T010000
END:DAYLIGHT
BEGIN:STANDARD
TZOFFSETFROM:+0200
TZOFFSETTO:+0100
TZNAME:CET
DTSTART:20261025T010000
END:STANDARD
BEGIN:DAYLIGHT
TZOFFSETFROM:+0100
TZOFFSETTO:+0200
TZNAME:CEST
DTSTART:20270328T010000
END:DAYLIGHT
BEGIN:STANDARD
TZOFFSETFROM:+0200
TZOFFSETTO:+0100
TZNAME:CET
DTSTART:20271031T010000
END:STANDARD
END:VTIMEZONE
BEGIN:VEVENT
DTSTART;TZID=Europe/Berlin:20260426T090000
DTEND;TZID=Europe/Berlin:20260426T170000
DTSTAMP:20260426T014343
CREATED:20251009T132717Z
LAST-MODIFIED:20260425T225059Z
UID:31895-1777194000-1777222800@www.euva.de
SUMMARY:Pkw Basistraining | DVR
DESCRIPTION:Versicherungsschutz inklusive.
URL:https://www.euva.de/event/pkw-basistraining-dvr-18/
END:VEVENT
BEGIN:VEVENT
DTSTART;TZID=Europe/Berlin:20260426T100000
DTEND;TZID=Europe/Berlin:20260426T110000
DTSTAMP:20260426T014343
CREATED:20260414T065111Z
LAST-MODIFIED:20260425T225059Z
UID:33135-1777197600-1777201200@www.euva.de
SUMMARY:Fahren ohne Führerschein
DESCRIPTION:Kein Versicherungsschutz verfügbar.
URL:https://www.euva.de/event/fahren-ohne-fuehrerschein-767/
END:VEVENT
BEGIN:VEVENT
DTSTART;TZID=Europe/Berlin:20260426T110000
DTEND;TZID=Europe/Berlin:20260426T120000
DTSTAMP:20260426T014343
CREATED:20260414T065112Z
LAST-MODIFIED:20260425T225059Z
UID:33136-1777201200-1777204800@www.euva.de
SUMMARY:Fahren ohne Führerschein
DESCRIPTION:Kein Versicherungsschutz verfügbar.
URL:https://www.euva.de/event/fahren-ohne-fuehrerschein-768/
END:VEVENT
BEGIN:VEVENT
DTSTART;TZID=Europe/Berlin:20260426T120000
DTEND;TZID=Europe/Berlin:20260426T130000
DTSTAMP:20260426T014343
CREATED:20260414T065112Z
LAST-MODIFIED:20260425T225059Z
UID:33137-1777204800-1777208400@www.euva.de
SUMMARY:Fahren ohne Führerschein
DESCRIPTION:Kein Versicherungsschutz verfügbar.
URL:https://www.euva.de/event/fahren-ohne-fuehrerschein-769/
END:VEVENT
BEGIN:VEVENT
DTSTART;TZID=Europe/Berlin:20260426T130000
DTEND;TZID=Europe/Berlin:20260426T140000
DTSTAMP:20260426T014343
CREATED:20260414T065112Z
LAST-MODIFIED:20260425T225059Z
UID:33138-1777208400-1777212000@www.euva.de
SUMMARY:Fahren ohne Führerschein
DESCRIPTION:Kein Versicherungsschutz verfügbar.
URL:https://www.euva.de/event/fahren-ohne-fuehrerschein-770/
END:VEVENT
BEGIN:VEVENT
DTSTART;TZID=Europe/Berlin:20260426T140000
DTEND;TZID=Europe/Berlin:20260426T150000
DTSTAMP:20260426T014343
CREATED:20260414T065112Z
LAST-MODIFIED:20260425T225059Z
UID:33139-1777212000-1777215600@www.euva.de
SUMMARY:Fahren ohne Führerschein
DESCRIPTION:Kein Versicherungsschutz verfügbar.
URL:https://www.euva.de/event/fahren-ohne-fuehrerschein-771/
END:VEVENT
END:VCALENDAR