BEGIN:VCALENDAR
VERSION:2.0
PRODID:-//EUVA Verkehrsakademie - ECPv6.15.12.2//NONSGML v1.0//EN
CALSCALE:GREGORIAN
METHOD:PUBLISH
X-WR-CALNAME:EUVA Verkehrsakademie
X-ORIGINAL-URL:https://www.euva.de
X-WR-CALDESC:Veranstaltungen für EUVA Verkehrsakademie
REFRESH-INTERVAL;VALUE=DURATION:PT1H
X-Robots-Tag:noindex
X-PUBLISHED-TTL:PT1H
BEGIN:VTIMEZONE
TZID:Europe/Berlin
BEGIN:DAYLIGHT
TZOFFSETFROM:+0100
TZOFFSETTO:+0200
TZNAME:CEST
DTSTART:20250330T010000
END:DAYLIGHT
BEGIN:STANDARD
TZOFFSETFROM:+0200
TZOFFSETTO:+0100
TZNAME:CET
DTSTART:20251026T010000
END:STANDARD
BEGIN:DAYLIGHT
TZOFFSETFROM:+0100
TZOFFSETTO:+0200
TZNAME:CEST
DTSTART:20260329T010000
END:DAYLIGHT
BEGIN:STANDARD
TZOFFSETFROM:+0200
TZOFFSETTO:+0100
TZNAME:CET
DTSTART:20261025T010000
END:STANDARD
BEGIN:DAYLIGHT
TZOFFSETFROM:+0100
TZOFFSETTO:+0200
TZNAME:CEST
DTSTART:20270328T010000
END:DAYLIGHT
BEGIN:STANDARD
TZOFFSETFROM:+0200
TZOFFSETTO:+0100
TZNAME:CET
DTSTART:20271031T010000
END:STANDARD
END:VTIMEZONE
BEGIN:VEVENT
DTSTART;TZID=Europe/Berlin:20260425T090000
DTEND;TZID=Europe/Berlin:20260425T163000
DTSTAMP:20260425T024215
CREATED:20251107T220939Z
LAST-MODIFIED:20260414T055059Z
UID:32008-1777107600-1777134600@www.euva.de
SUMMARY:Berufskraftfahrer-Weiterbildung (BKrFQG)
DESCRIPTION:Kein Versicherungsschutz verfügbar.
URL:https://www.euva.de/event/berufskraftfahrer-weiterbildung-bkrfqg-5/
END:VEVENT
END:VCALENDAR